Workbook
Name _ftn1: 'à contrat'!#REF!
Name _ftn1: 'Spécialiste 25-26 groupes'!#REF!
Name _ftn2: 'à contrat'!$A$16
Name _ftn2: 'Spécialiste 25-26 groupes'!$A$13
Name _ftn3: 'à contrat'!#REF!
Name _ftn3: 'Spécialiste 25-26 groupes'!#REF!
Name _ftn4: 'à contrat'!#REF!
Name _ftn4: 'Spécialiste 25-26 groupes'!#REF!
Name _ftnref1: 'à contrat'!$A$5
Name _ftnref1: 'Spécialiste 25-26 groupes'!$A$4
Name _ftnref2: 'à contrat'!$A$11
Name _ftnref2: 'Spécialiste 25-26 groupes'!$A$10
Name _ftnref3: 'à contrat'!$A$14
Name _ftnref3: 'Spécialiste 25-26 groupes'!$A$12
Name _ftnref4: 'à contrat'!#REF!
Name _ftnref4: 'Spécialiste 25-26 groupes'!#REF!
Name _Hlk114051007: 'Amplitude à compléter'!$B$13
Name _Hlk114051007: 'Amplitude exemple'!$B$13
Name _Hlk95118549: 'à contrat'!$A$5
Name _Hlk95118549: 'Spécialiste 25-26 groupes'!$A$4
Name _Hlk95118775: 'à contrat'!$A$16
Name _Hlk95118775: 'Spécialiste 25-26 groupes'!$A$13
Name _Hlk97106282: 'à contrat'!$A$22
Name _Hlk97106282: 'Spécialiste 25-26 groupes'!$A$21
Name _Toc100562341: 'à contrat'!$A$1
Name _Toc100562341: 'Spécialiste 25-26 groupes'!$A$1

Sheet Spécialiste 25-26 groupes
A1: Exemple - Tâche annuelle spécialistes au primaire - 25-26 groupes
A3: Tâche éducative (TE) | D3: Nombre d’heures annuelles (h) | E3: Temps récurrent fixé à l’horaire, s’il y a lieu (h)
A4: Cours et leçons - Heures d'enseignement primaire (selon le nombre de groupes) | D4: 684 | E4: 19
A5: Encadrement | D5: 36
A6: Responsabilité des élèves qui doivent entrer à l'intérieur (fixé à l'horaire) | D6: 12 | E6: 20 minutes
A7: Entente syndicale 40 min. clause 8-5.05.02 - Récréations, sorties, midis, mauvais temps, imprévus, retards, etc. | D7: 24
A8: Surveillance
A9: Activités étudiantes reconnues autres - Gel d'horaire (Noël, fin d'année, etc.) - Dîner privilège - Comité (en présence d'élèves)
A10: Total A - Doit être 774 h | D10: =SUM(D4:D9) -> 756
A12: Autres tâches professionnelles (ATP) | D12: Nombre d’heures annuelles (h) | E12: Temps récurrent fixé à l’horaire, s’il y a lieu (h)
A13: Accueil et déplacement
A14: Équivaut à 3 récréations pour suivi aux parents, collaboration ou concertation avec le personnel enseignant, profession, soutien ainsi que service externe. | D14: 36
A15: Déplacements
A16: Comités
A19: Concertations (niveau, avec professionnels, parents, etc.) selon besoins
A20: Cellules ou révision plans aménagement
A21: Préparation et/ou rencontre pour P.I.
A22: Temps de déplacement entre les écoles
A23: Imprévus
A24: Journées pédagogiques | D24: 101
A26: Sous-total (306 h) | D26: =SUM(D13:D25) -> 137 | E26: =SUM(E13:E25) -> 0
A27: Travail et lieu déterminés par l'enseignant (extérieur amplitude possible) - Planification et correction
A28: 10 rencontres du personnel collectives
A29: 3 rencontres avec les parents
A30: Sous-total (200 h) | D30: =SUM(D27:D29) -> 0
A31: Total B - Doit donner 506 h | D31: =D26+D30 -> 137
A32: Grand total - tâche (doit donner 1280 h) | D32: =D31+D10 -> 893

Sheet Amplitude exemple
A1: Exemple - horaire et amplitude
B2: Heures | E2: Jour 1 | F2: Jour 2 | G2: Jour 3 | H2: Jour 4 | I2: Jour 5
A3: Amplitude quotidienne : Ne pas excéder 8 heures (excluant la période de repas, les 10 rencontres collectives et les 3 premières réunions avec les parents) | E3: Début de l’amplitude quotidienne
B4: Début amplitude de l’enseignant | E4: 0.35416667 | F4: 0.3125 | G4: 0.3125 | H4: 0.3125 | I4: 0.3125
B7: Accueil et déplacement | F7: AD | G7: AD | H7: AD | I7: AD
B8: Période 1 – 60 minutes | F8: Cours | G8: Cours | H8: Cours | I8: Cours
B9: Accueil et déplacement | E9: AD | F9: AD | G9: AD | H9: AD | I9: AD
B10: Période 2 – 60 minutes | E10: Cours | F10: Cours | H10: Cours | I10: Cours
G11: Cours (30 min)
B12: Période de récréation – 20 minutes | E12: Surveillance
B13: Accueil et déplacement | E13: AD | G13: AD | H13: AD | I13: AD
B14: Période 3 – 60 minutes | E14: Cours | G14: Cours | H14: Cours | I14: Cours
B15: Accueil et déplacement | E15: AD | G15: AD | H15: AD | I15: AD
B16: Dîner des élèves – 75 minutes | E16: 0.034722222 | F16: 0.034722222 | G16: 0.034722222 | H16: 0.034722222 | I16: 0.034722222
B17: Accueil et déplacement | E17: AD | F17: AD | G17: AD | H17: AD
B18: Période 4 – 60 minutes | E18: Cours | F18: Cours | G18: Cours | H18: Cours
B19: Période de récréation – 20 minutes | E19: Surveillance
B20: Accueil et déplacement | E20: AD | F20: AD | G20: AD | H20: AD | I20: AD
B21: Période 5 – 60 minutes | E21: Cours | F21: Cours | G21: Cours | I21: Cours
B22: Accueil et déplacement | E22: AD | F22: AD | G22: AD | I22: AD
B26: Fin de l’amplitude de l’enseignant | E26: 0.66666667 | F26: 0.65625 | G26: 0.64930556 | H26: 0.60416667 | I26: 0.65972222
B28: Total amplitude quotidienne | E28: =(E26-E4)-E16 -> 0.27777778 | F28: =(F26-F4)-F16 -> 0.30902778 | G28: =(G26-G4)-G16 -> 0.30208333 | H28: =(H26-H4)-H16 -> 0.25694444 | I28: =(I26-I4)-I16 -> 0.3125 | J28: =E28+F28+G28+H28+I28 -> 1.4583333
E29: Total de l’amplitude hebdomadaire de 35 h = A + B + C + D + E

Sheet Amplitude à compléter
A1: Exemple - horaire et amplitude
B2: Heures | E2: Jour 1 | F2: Jour 2 | G2: Jour 3 | H2: Jour 4 | I2: Jour 5
A3: Amplitude quotidienne : Ne pas excéder 8 heures (excluant la période de repas, les 10 rencontres collectives et les 3 premières réunions avec les parents) | E3: Début de l’amplitude quotidienne
B4: Début amplitude de l’enseignant | E4: 0.35416667 | F4: 0.3125 | G4: 0.3125 | H4: 0.3125 | I4: 0.3125
B7: Accueil et déplacement
B8: Période 1 – 60 minutes
B9: Accueil et déplacement
B10: Période 2 – 60 minutes
B12: Période de récréation – 20 minutes
B13: Accueil et déplacement
B14: Période 3 – 60 minutes
B15: Accueil et déplacement
B16: Dîner des élèves – 75 minutes | E16: 0.034722222 | F16: 0.034722222 | G16: 0.034722222 | H16: 0.034722222 | I16: 0.034722222
B17: Accueil et déplacement
B18: Période 4 – 60 minutes
B19: Période de récréation – 20 minutes
B20: Accueil et déplacement
B21: Période 5 – 60 minutes
B22: Accueil et déplacement
B26: Fin de l’amplitude de l’enseignant | E26: 0.66666667 | F26: 0.65625 | G26: 0.64930556 | H26: 0.60416667 | I26: 0.65972222
B28: Total amplitude quotidienne | E28: =(E26-E4)-E16 -> 0.27777778 | F28: =(F26-F4)-F16 -> 0.30902778 | G28: =(G26-G4)-G16 -> 0.30208333 | H28: =(H26-H4)-H16 -> 0.25694444 | I28: =(I26-I4)-I16 -> 0.3125 | J28: =E28+F28+G28+H28+I28 -> 1.4583333
E29: Total de l’amplitude hebdomadaire de 35 h = A + B + C + D + E

Sheet à contrat
A1: Exemple - Tâche annuelle au primaire | E1: Note : 0,10 = 6 min
A3: Inscrire votre pourcentage de contrat | E3: 0 | G3: Si contrat à 100 %
A4: Tâche éducative (TE) | E4: Nombre d’heures annuelles (h) | G4: Nombre d’heures annuelles (h)
A5: Cours et leçons - Heures d'enseignement primaire | E5: ='Spécialiste 25-26 groupes'!D4*'à contrat'!$E$3 -> 0 | G5: 684
A6: Encadrement | E6: ='Spécialiste 25-26 groupes'!D5*'à contrat'!$E$3 -> 0 | G6: 36
A7: Responsabilité des élèves qui doivent entrer à l'intérieur (fixé à l'horaire) | E7: ='Spécialiste 25-26 groupes'!D6*'à contrat'!$E$3 -> 0 | G7: 12
A8: Entente syndicale 40 min. clause 8-5.05.02 - Récréations, sorties, midis, mauvais temps, imprévus, retards, etc. | E8: ='Spécialiste 25-26 groupes'!D7*'à contrat'!$E$3 -> 0 | G8: 24
A9: Surveillance | G9: 18 h à placer selon l'école
A10: Activités étudiantes reconnues autres - Gel d'horaire (Noël, fin d'année, etc.) - Dîner privilège - Comité (en présence d'élèves)
A11: Sous-total - Doit donner : | D11: =774*E3 -> 0 | E11: =SUM(E5:E10) -> 0 | G11: 774
E13: =E3 -> 0 | G13: Si contrat à 100 %
A14: Autres tâches professionnelles (ATP) | E14: Nombre d’heures annuelles (h) | G14: Nombre d’heures annuelles (h)
A15: Équivaut à 3 récréations pour suivi aux parents, collaboration ou concertation avec le personnel enseignant, profession, soutien ainsi que service externe. | E15: ='Spécialiste 25-26 groupes'!D14*'à contrat'!$E$3 -> 0 | G15: 36
A16: Accueil et déplacement | G16: 169 heures à placer selon l'école
A17: Comités
A20: Concertations (niveau, avec professionnels, parents, etc.) selon besoins
A21: Cellules ou révision plans aménagement
A22: Préparation et/ou rencontre pour P.I.
A23: Temps de déplacement entre les écoles
A24: Imprévus
A25: Journées pédagogiques | E25: =G25*E3 -> 0 | G25: 101
A27: Sous-total - Doit être : | D27: =306*E3 -> 0 | E27: =SUM(E15:E26) -> 0 | G27: 306
A28: Travail et lieu déterminés par l'enseignant (extérieur amplitude possible) - Planification et correction | G28: 40 heures à placer selon l'école
A29: 10 rencontres du personnel collectives
A30: 3 rencontres avec les parents
A31: Sous-total - Doit être : | D31: =200*E3 -> 0 | E31: =SUM(E28:E30) -> 0 | G31: 200
A32: Grand total - tâche - Doit être : | D32: =D31+D27+D11 -> 0 | E32: =E31+E27+E11 -> 0 | G32: 1280
